BEGIN:VCALENDAR
VERSION:2.0
PRODID:-//ciechantierpublic - ECPv5.3.1.1//NONSGML v1.0//EN
CALSCALE:GREGORIAN
METHOD:PUBLISH
X-WR-CALNAME:ciechantierpublic
X-ORIGINAL-URL:https://ciechantierpublic.fr
X-WR-CALDESC:évènements pour ciechantierpublic
BEGIN:VTIMEZONE
TZID:Europe/Paris
BEGIN:DAYLIGHT
TZOFFSETFROM:+0100
TZOFFSETTO:+0200
TZNAME:CEST
DTSTART:20260329T010000
END:DAYLIGHT
BEGIN:STANDARD
TZOFFSETFROM:+0200
TZOFFSETTO:+0100
TZNAME:CET
DTSTART:20261025T010000
END:STANDARD
BEGIN:DAYLIGHT
TZOFFSETFROM:+0100
TZOFFSETTO:+0200
TZNAME:CEST
DTSTART:20270328T010000
END:DAYLIGHT
BEGIN:STANDARD
TZOFFSETFROM:+0200
TZOFFSETTO:+0100
TZNAME:CET
DTSTART:20271031T010000
END:STANDARD
END:VTIMEZONE
BEGIN:VEVENT
DTSTART;VALUE=DATE:20261005
DTEND;VALUE=DATE:20261016
DTSTAMP:20260421T141524
CREATED:20260312T141821Z
LAST-MODIFIED:20260312T153545Z
UID:4864-1791158400-1792108799@ciechantierpublic.fr
SUMMARY:TOURNEE SCOLAIRE - Ligue de l'enseignement du Tarn (81)
DESCRIPTION:En quelques mots \nRomain et Sabah ont 9 ans. Ils sont voisins et tous les deux solitaires. Lui galope sur son cheval de bois\, elle\, chasse le bison en guerrière sioux. \nDe leur rencontre\, surgit de l’incroyable et du merveilleux. \nMais leurs parents s’opposent à leur amour naissant avec brutalité. \nLes mots intuitifs de Fabrice Melquiot\, à hauteur d’enfants\, offrent un écho actuel à Roméo et Juliette. Ce texte drôle et sensible nous confronte avec finesse aux questions du racisme et de l’amour de l’autre. \nQuel que soit l’âge\, la mise en scène nous emporte au cœur des sensations des personnages et de leur imaginaire. \n« Les comédien·nes\, Aïda Hamri et Simon Chaillou\, portent avec une très belle justesse le texte de Fabrice Melquiot. »\n« J’ai été très touchée par l’interprétation généreuse et sincère des deux comédien·nes. »\n« Une histoire touchante et percutante très ancrée dans notre réalité »\n« Un spectacle immersif » [et] « nécessaire »\nVivantMag \n« Sanglés dans une prose crépitante\, Aïda Hamri et Simon Chaillou virevoltent des fauteuils à la scène »\nMichel Flandrin
URL:https://ciechantierpublic.fr/event/tournee-scolaire-ligue-de-lenseignement-du-tarn-81/
LOCATION:Ligue de l’enseignement du Tarn\, Albi\, 81000\, France
ATTACH;FMTTYPE=image/jpeg:https://ciechantierpublic.fr/wp-content/uploads/2025/05/2-LesSeparables©ChloeSignes-recadreeSITE-1.jpg
END:VEVENT
BEGIN:VEVENT
DTSTART;TZID=Europe/Paris:20261117T110000
DTEND;TZID=Europe/Paris:20261117T120000
DTSTAMP:20260421T141524
CREATED:20251217T172504Z
LAST-MODIFIED:20260121T155148Z
UID:4815-1794913200-1794916800@ciechantierpublic.fr
SUMMARY:REPRESENTATION SCOLAIRE - La Stella - Les Séparables - Ville de La Trinité (06)
DESCRIPTION:En quelques mots \nRomain et Sabah ont 9 ans. Ils sont voisins et tous les deux solitaires. Lui galope sur son cheval de bois\, elle\, chasse le bison en guerrière sioux. \nDe leur rencontre\, surgit de l’incroyable et du merveilleux. \nMais leurs parents s’opposent à leur amour naissant avec brutalité. \nLes mots intuitifs de Fabrice Melquiot\, à hauteur d’enfants\, offrent un écho actuel à Roméo et Juliette. Ce texte drôle et sensible nous confronte avec finesse aux questions du racisme et de l’amour de l’autre. \nQuel que soit l’âge\, la mise en scène nous emporte au cœur des sensations des personnages et de leur imaginaire. \n« Les comédien·nes\, Aïda Hamri et Simon Chaillou\, portent avec une très belle justesse le texte de Fabrice Melquiot. »\n« J’ai été très touchée par l’interprétation généreuse et sincère des deux comédien·nes. »\n« Une histoire touchante et percutante très ancrée dans notre réalité »\n« Un spectacle immersif » [et] « nécessaire »\nVivantMag \n« Sanglés dans une prose crépitante\, Aïda Hamri et Simon Chaillou virevoltent des fauteuils à la scène »\nMichel Flandrin
URL:https://ciechantierpublic.fr/event/representations-scolaires-la-stella-les-separables-ville-de-la-trinite-06/
LOCATION:La Stella\, La Trinité\, 06340\, France
ATTACH;FMTTYPE=image/jpeg:https://ciechantierpublic.fr/wp-content/uploads/2025/05/2-LesSeparables©ChloeSignes-recadreeSITE.jpg
ORGANIZER;CN="Ville%20de%20La%20Trinit%C3%A9":MAILTO:https://villedelatrinite.fr/vie-municipale/amenagements/grands-projets/la-stella/
END:VEVENT
BEGIN:VEVENT
DTSTART;TZID=Europe/Paris:20261117T150000
DTEND;TZID=Europe/Paris:20261117T160000
DTSTAMP:20260421T141524
CREATED:20260121T155316Z
LAST-MODIFIED:20260121T155316Z
UID:4853-1794927600-1794931200@ciechantierpublic.fr
SUMMARY:REPRESENTATION SCOLAIRE - La Stella - Les Séparables - Ville de La Trinité (06)
DESCRIPTION:En quelques mots \nRomain et Sabah ont 9 ans. Ils sont voisins et tous les deux solitaires. Lui galope sur son cheval de bois\, elle\, chasse le bison en guerrière sioux. \nDe leur rencontre\, surgit de l’incroyable et du merveilleux. \nMais leurs parents s’opposent à leur amour naissant avec brutalité. \nLes mots intuitifs de Fabrice Melquiot\, à hauteur d’enfants\, offrent un écho actuel à Roméo et Juliette. Ce texte drôle et sensible nous confronte avec finesse aux questions du racisme et de l’amour de l’autre. \nQuel que soit l’âge\, la mise en scène nous emporte au cœur des sensations des personnages et de leur imaginaire. \n« Les comédien·nes\, Aïda Hamri et Simon Chaillou\, portent avec une très belle justesse le texte de Fabrice Melquiot. »\n« J’ai été très touchée par l’interprétation généreuse et sincère des deux comédien·nes. »\n« Une histoire touchante et percutante très ancrée dans notre réalité »\n« Un spectacle immersif » [et] « nécessaire »\nVivantMag \n« Sanglés dans une prose crépitante\, Aïda Hamri et Simon Chaillou virevoltent des fauteuils à la scène »
URL:https://ciechantierpublic.fr/event/representation-scolaire-la-stella-les-separables-ville-de-la-trinite-06/
LOCATION:La Stella\, La Trinité\, 06340\, France
ATTACH;FMTTYPE=image/jpeg:https://ciechantierpublic.fr/wp-content/uploads/2025/05/2-LesSeparables©ChloeSignes-recadreeSITE.jpg
ORGANIZER;CN="Ville%20de%20La%20Trinit%C3%A9":MAILTO:https://villedelatrinite.fr/vie-municipale/amenagements/grands-projets/la-stella/
END:VEVENT
BEGIN:VEVENT
DTSTART;TZID=Europe/Paris:20261120T140000
DTEND;TZID=Europe/Paris:20261120T150000
DTSTAMP:20260421T141524
CREATED:20251217T172850Z
LAST-MODIFIED:20251217T172850Z
UID:4819-1795183200-1795186800@ciechantierpublic.fr
SUMMARY:REPRESENTATION SCOLAIRE - Les Séparables - Théâtre Francis Gag - Nice (06)
DESCRIPTION:En quelques mots \nRomain et Sabah ont 9 ans. Ils sont voisins et tous les deux solitaires. Lui galope sur son cheval de bois\, elle\, chasse le bison en guerrière sioux. \nDe leur rencontre\, surgit de l’incroyable et du merveilleux. \nMais leurs parents s’opposent à leur amour naissant avec brutalité. \nLes mots intuitifs de F. Melquiot\, à hauteur d’enfants\, offrent un écho actuel à Roméo et Juliette. Ce texte drôle et sensible nous confronte avec finesse aux questions du racisme et de l’amour de l’autre. \nQuel que soit l’âge\, la mise en scène nous emporte au cœur des sensations des personnages et de leur imaginaire. \n« Les comédien·nes\, Aïda Hamri et Simon Chaillou\, portent avec une très belle justesse le texte de Fabrice Melquiot. » ; « J’ai été très touchée par l’interprétation généreuse et sincère des deux comédien·nes. » ; « Une histoire touchante et percutante très ancrée dans notre réalité » ; « Un spectacle immersif » [et] « nécessaire ». VivantMag
URL:https://ciechantierpublic.fr/event/representation-scolaire-les-separables-theatre-francis-gag-nice-06/
LOCATION:Théâtre Francis Gag\, Nice\, 06300\, France
ATTACH;FMTTYPE=image/jpeg:https://ciechantierpublic.fr/wp-content/uploads/2025/05/2-LesSeparables©ChloeSignes-recadreeSITE.jpg
ORGANIZER;CN="Th%C3%A9%C3%A2tre%20Francis%20Gag":MAILTO:https://www.theatre-francis-gag.org/
END:VEVENT
BEGIN:VEVENT
DTSTART;TZID=Europe/Paris:20261121T143000
DTEND;TZID=Europe/Paris:20261121T153000
DTSTAMP:20260421T141524
CREATED:20251217T173111Z
LAST-MODIFIED:20251217T173111Z
UID:4823-1795271400-1795275000@ciechantierpublic.fr
SUMMARY:REPRESENTATION TOUT PUBLIC - Les Séparables - Théâtre Francis Gag - Nice (06)
DESCRIPTION:En quelques mots \nRomain et Sabah ont 9 ans. Ils sont voisins et tous les deux solitaires. Lui galope sur son cheval de bois\, elle\, chasse le bison en guerrière sioux. \nDe leur rencontre\, surgit de l’incroyable et du merveilleux. \nMais leurs parents s’opposent à leur amour naissant avec brutalité. \nLes mots intuitifs de Fabrice Melquiot\, à hauteur d’enfants\, offrent un écho actuel à Roméo et Juliette. Ce texte drôle et sensible nous confronte avec finesse aux questions du racisme et de l’amour de l’autre. \nQuel que soit l’âge\, la mise en scène nous emporte au cœur des sensations des personnages et de leur imaginaire. \n« Les comédien·nes\, Aïda Hamri et Simon Chaillou\, portent avec une très belle justesse le texte de Fabrice Melquiot. »\n« J’ai été très touchée par l’interprétation généreuse et sincère des deux comédien·nes. »\n« Une histoire touchante et percutante très ancrée dans notre réalité »\n« Un spectacle immersif » [et] « nécessaire »\nVivantMag \n« Sanglés dans une prose crépitante\, Aïda Hamri et Simon Chaillou virevoltent des fauteuils à la scène »\nMichel Flandrin
URL:https://ciechantierpublic.fr/event/representation-tout-public-les-separables-theatre-francis-gag-nice-06/
LOCATION:Théâtre Francis Gag\, Nice\, 06300\, France
ATTACH;FMTTYPE=image/jpeg:https://ciechantierpublic.fr/wp-content/uploads/2025/05/2-LesSeparables©ChloeSignes-recadreeSITE.jpg
ORGANIZER;CN="Th%C3%A9%C3%A2tre%20Francis%20Gag":MAILTO:https://www.theatre-francis-gag.org/
END:VEVENT
BEGIN:VEVENT
DTSTART;VALUE=DATE:20261214
DTEND;VALUE=DATE:20261219
DTSTAMP:20260421T141524
CREATED:20260312T142441Z
LAST-MODIFIED:20260312T152134Z
UID:4869-1797206400-1797638399@ciechantierpublic.fr
SUMMARY:REPRESENTATIONS SCOLAIRES - Les Séparables - La Pari\, Fabrique Artistique\, Tarbes - Ligue de l'enseignement des Hautes-Pyrénées (65)
DESCRIPTION:En quelques mots \nRomain et Sabah ont 9 ans. Ils sont voisins et tous les deux solitaires. Lui galope sur son cheval de bois\, elle\, chasse le bison en guerrière sioux. \nDe leur rencontre\, surgit de l’incroyable et du merveilleux. \nMais leurs parents s’opposent à leur amour naissant avec brutalité. \nLes mots intuitifs de Fabrice Melquiot\, à hauteur d’enfants\, offrent un écho actuel à Roméo et Juliette. Ce texte drôle et sensible nous confronte avec finesse aux questions du racisme et de l’amour de l’autre. \nQuel que soit l’âge\, la mise en scène nous emporte au cœur des sensations des personnages et de leur imaginaire. \n« Les comédien·nes\, Aïda Hamri et Simon Chaillou\, portent avec une très belle justesse le texte de Fabrice Melquiot. »\n« J’ai été très touchée par l’interprétation généreuse et sincère des deux comédien·nes. »\n« Une histoire touchante et percutante très ancrée dans notre réalité »\n« Un spectacle immersif » [et] « nécessaire »\nVivantMag \n« Sanglés dans une prose crépitante\, Aïda Hamri et Simon Chaillou virevoltent des fauteuils à la scène »\nMichel Flandrin
URL:https://ciechantierpublic.fr/event/tournee-les-separables-la-pari-fabrique-artistique-tarbes-65-ligue-de-lenseignement-des-hautes-pyrenees-65/
LOCATION:Le Pari – Fabrique artistique\, 21 Rue Georges Clemenceau\, Tarbes\, 65000\, France
ATTACH;FMTTYPE=image/jpeg:https://ciechantierpublic.fr/wp-content/uploads/2025/05/2-LesSeparables©ChloeSignes-recadreeSITE-1.jpg
END:VEVENT
BEGIN:VEVENT
DTSTART;TZID=Europe/Paris:20270112T143000
DTEND;TZID=Europe/Paris:20270112T153000
DTSTAMP:20260421T141524
CREATED:20251217T171232Z
LAST-MODIFIED:20251217T172106Z
UID:4811-1799764200-1799767800@ciechantierpublic.fr
SUMMARY:REPRESENTATION SCOLAIRE - Les Séparables - Chai du Terral - Saint Jean de Védas (34)
DESCRIPTION:En quelques mots \nRomain et Sabah ont 9 ans. Ils sont voisins et tous les deux solitaires. Lui galope sur son cheval de bois\, elle\, chasse le bison en guerrière sioux. \nDe leur rencontre\, surgit de l’incroyable et du merveilleux. \nMais leurs parents s’opposent à leur amour naissant avec brutalité. \nLes mots intuitifs de F. Melquiot\, à hauteur d’enfants\, offrent un écho actuel à Roméo et Juliette. Ce texte drôle et sensible nous confronte avec finesse aux questions du racisme et de l’amour de l’autre. \nQuel que soit l’âge\, la mise en scène nous emporte au cœur des sensations des personnages et de leur imaginaire. \n« Les comédien·nes\, Aïda Hamri et Simon Chaillou\, portent avec une très belle justesse le texte de Fabrice Melquiot. » ; « J’ai été très touchée par l’interprétation généreuse et sincère des deux comédien·nes. » ; « Une histoire touchante et percutante très ancrée dans notre réalité » ; « Un spectacle immersif » [et] « nécessaire ». VivantMag
URL:https://ciechantierpublic.fr/event/representation-scolaire-les-separables-chai-du-terral-saint-jean-de-vedas-34/
LOCATION:Chai du Terral\, Saint Jean de Védas\, 34430\, France
ATTACH;FMTTYPE=image/jpeg:https://ciechantierpublic.fr/wp-content/uploads/2025/05/2-LesSeparables©ChloeSignes-recadreeSITE.jpg
END:VEVENT
BEGIN:VEVENT
DTSTART;VALUE=DATE:20270128
DTEND;VALUE=DATE:20270130
DTSTAMP:20260421T141524
CREATED:20250424T140730Z
LAST-MODIFIED:20260331T172409Z
UID:4654-1801094400-1801267199@ciechantierpublic.fr
SUMMARY:REPRESENTATION TOUT PUBLIC - Les Séparables - CDDV (Centre Dramatique des Villages du Haut Vaucluse) - Valréas (84)
DESCRIPTION:En quelques mots \nRomain et Sabah ont 9 ans. Ils sont voisins et tous les deux solitaires. Lui galope sur son cheval de bois\, elle\, chasse le bison en guerrière sioux. \nDe leur rencontre\, surgit de l’incroyable et du merveilleux. \nMais leurs parents s’opposent à leur amour naissant avec brutalité. \nLes mots intuitifs de F. Melquiot\, à hauteur d’enfants\, offrent un écho actuel à Roméo et Juliette. Ce texte drôle et sensible nous confronte avec finesse aux questions du racisme et de l’amour de l’autre. \nQuel que soit l’âge\, la mise en scène nous emporte au cœur des sensations des personnages et de leur imaginaire. \n« Les comédien·nes\, Aïda Hamri et Simon Chaillou\, portent avec une très belle justesse le texte de Fabrice Melquiot. » ; « J’ai été très touchée par l’interprétation généreuse et sincère des deux comédien·nes. » ; « Une histoire touchante et percutante très ancrée dans notre réalité » ; « Un spectacle immersif » [et] « nécessaire ». VivantMag
URL:https://ciechantierpublic.fr/event/representation-tout-public-les-separables-cddv-centre-dramatique-des-villages-du-haut-vaucluse/
LOCATION:CDDV\, 10 avenue Maréchal Leclerc\, Valréas\, 84600
ATTACH;FMTTYPE=image/jpeg:https://ciechantierpublic.fr/wp-content/uploads/2025/04/2-LesSeparables©ChloeSignes-recadree.jpg
END:VEVENT
BEGIN:VEVENT
DTSTART;VALUE=DATE:20270205
DTEND;VALUE=DATE:20270207
DTSTAMP:20260421T141524
CREATED:20260331T172609Z
LAST-MODIFIED:20260331T172609Z
UID:5024-1801785600-1801958399@ciechantierpublic.fr
SUMMARY:REPRESENTATIONS SCOLAIRES ET TOUT PUBLIC - Théâtre Christian Liger\, Nimes (30)
DESCRIPTION:En quelques mots \nRomain et Sabah ont 9 ans. Ils sont voisins et tous les deux solitaires. Lui galope sur son cheval de bois\, elle\, chasse le bison en guerrière sioux. \nDe leur rencontre\, surgit de l’incroyable et du merveilleux. \nMais leurs parents s’opposent à leur amour naissant avec brutalité. \nLes mots intuitifs de F. Melquiot\, à hauteur d’enfants\, offrent un écho actuel à Roméo et Juliette. Ce texte drôle et sensible nous confronte avec finesse aux questions du racisme et de l’amour de l’autre. \nQuel que soit l’âge\, la mise en scène nous emporte au cœur des sensations des personnages et de leur imaginaire. \n« Les comédien·nes\, Aïda Hamri et Simon Chaillou\, portent avec une très belle justesse le texte de Fabrice Melquiot. » ; « J’ai été très touchée par l’interprétation généreuse et sincère des deux comédien·nes. » ; « Une histoire touchante et percutante très ancrée dans notre réalité » ; « Un spectacle immersif » [et] « nécessaire ». VivantMag
URL:https://ciechantierpublic.fr/event/representations-scolaires-et-tout-public-theatre-christian-liger-nimes-30/
LOCATION:Théâtre Christian Liger\, Pl. Hubert Rouger\, Nîmes\, 30000\, France
ATTACH;FMTTYPE=image/jpeg:https://ciechantierpublic.fr/wp-content/uploads/2025/05/2-LesSeparables©ChloeSignes-recadreeSITE-1.jpg
END:VEVENT
BEGIN:VEVENT
DTSTART;VALUE=DATE:20270329
DTEND;VALUE=DATE:20270412
DTSTAMP:20260421T141524
CREATED:20260312T152655Z
LAST-MODIFIED:20260312T153446Z
UID:4875-1806278400-1807487999@ciechantierpublic.fr
SUMMARY:TOURNEE ITINERANTE - Les Séparables - Côté Cour\, Scène conventionnée art\, enfance\, jeunesse - Besançon (25)
DESCRIPTION:En quelques mots \nRomain et Sabah ont 9 ans. Ils sont voisins et tous les deux solitaires. Lui galope sur son cheval de bois\, elle\, chasse le bison en guerrière sioux. \nDe leur rencontre\, surgit de l’incroyable et du merveilleux. \nMais leurs parents s’opposent à leur amour naissant avec brutalité. \nLes mots intuitifs de Fabrice Melquiot\, à hauteur d’enfants\, offrent un écho actuel à Roméo et Juliette. Ce texte drôle et sensible nous confronte avec finesse aux questions du racisme et de l’amour de l’autre. \nQuel que soit l’âge\, la mise en scène nous emporte au cœur des sensations des personnages et de leur imaginaire. \n« Les comédien·nes\, Aïda Hamri et Simon Chaillou\, portent avec une très belle justesse le texte de Fabrice Melquiot. »\n« J’ai été très touchée par l’interprétation généreuse et sincère des deux comédien·nes. »\n« Une histoire touchante et percutante très ancrée dans notre réalité »\n« Un spectacle immersif » [et] « nécessaire »\nVivantMag \n« Sanglés dans une prose crépitante\, Aïda Hamri et Simon Chaillou virevoltent des fauteuils à la scène »\nMichel Flandrin
URL:https://ciechantierpublic.fr/event/tournee-itinerante-les-separables-cote-cour-scene-conventionnee-art-enfance-jeunesse-besancon-25/
LOCATION:Côté cour\, Scène conventionnée art\, enfance\, jeunesse\, 3 rue Beauregard\, Besançon\, 25000\, France
ATTACH;FMTTYPE=image/jpeg:https://ciechantierpublic.fr/wp-content/uploads/2025/05/2-LesSeparables©ChloeSignes-recadreeSITE-1.jpg
ORGANIZER;CN="C%C3%B4t%C3%A9%20cour%2C%20Sc%C3%A8ne%20conventionn%C3%A9e%20art%2C%20enfance%2C%20jeunesse":MAILTO:billetterie@cotecour.fr
END:VEVENT
BEGIN:VEVENT
DTSTART;VALUE=DATE:20270415
DTEND;VALUE=DATE:20270418
DTSTAMP:20260421T141524
CREATED:20260331T172916Z
LAST-MODIFIED:20260331T172916Z
UID:5026-1807747200-1808006399@ciechantierpublic.fr
SUMMARY:REPRESENTATIONS SCOLAIRES ET TOUT PUBLIC - Théâtre Massalia\, Scène conventionnée "Art\, enfance jeunesse"\, Marseille (13)
DESCRIPTION:En quelques mots \nRomain et Sabah ont 9 ans. Ils sont voisins et tous les deux solitaires. Lui galope sur son cheval de bois\, elle\, chasse le bison en guerrière sioux. \nDe leur rencontre\, surgit de l’incroyable et du merveilleux. \nMais leurs parents s’opposent à leur amour naissant avec brutalité. \nLes mots intuitifs de Fabrice Melquiot\, à hauteur d’enfants\, offrent un écho actuel à Roméo et Juliette. Ce texte drôle et sensible nous confronte avec finesse aux questions du racisme et de l’amour de l’autre. \nQuel que soit l’âge\, la mise en scène nous emporte au cœur des sensations des personnages et de leur imaginaire. \n« Les comédien·nes\, Aïda Hamri et Simon Chaillou\, portent avec une très belle justesse le texte de Fabrice Melquiot. »\n« J’ai été très touchée par l’interprétation généreuse et sincère des deux comédien·nes. »\n« Une histoire touchante et percutante très ancrée dans notre réalité »\n« Un spectacle immersif » [et] « nécessaire »\nVivantMag \n« Sanglés dans une prose crépitante\, Aïda Hamri et Simon Chaillou virevoltent des fauteuils à la scène »\nMichel Flandrin
URL:https://ciechantierpublic.fr/event/representations-scolaires-et-tout-public-theatre-massalia-scene-conventionnee-art-enfance-jeunesse-marseille-13/
LOCATION:Théâtre Massalia\, 41 Rue Jobin\, Marseille\, 13003\, France
ATTACH;FMTTYPE=image/jpeg:https://ciechantierpublic.fr/wp-content/uploads/2025/05/2-LesSeparables©ChloeSignes-recadreeSITE-1.jpg
END:VEVENT
BEGIN:VEVENT
DTSTART;TZID=Europe/Paris:20270428T150000
DTEND;TZID=Europe/Paris:20270428T160000
DTSTAMP:20260421T141525
CREATED:20260114T163018Z
LAST-MODIFIED:20260114T163209Z
UID:4844-1808924400-1808928000@ciechantierpublic.fr
SUMMARY:REPRESENTATION TOUT PUBLIC - Les Séparables - Théâtre de Castres (81)
DESCRIPTION:En quelques mots \nRomain et Sabah ont 9 ans. Ils sont voisins et tous les deux solitaires. Lui galope sur son cheval de bois\, elle\, chasse le bison en guerrière sioux. \nDe leur rencontre\, surgit de l’incroyable et du merveilleux. \nMais leurs parents s’opposent à leur amour naissant avec brutalité. \nLes mots intuitifs de Fabrice Melquiot\, à hauteur d’enfants\, offrent un écho actuel à Roméo et Juliette. Ce texte drôle et sensible nous confronte avec finesse aux questions du racisme et de l’amour de l’autre. \nQuel que soit l’âge\, la mise en scène nous emporte au cœur des sensations des personnages et de leur imaginaire. \n« Les comédien·nes\, Aïda Hamri et Simon Chaillou\, portent avec une très belle justesse le texte de Fabrice Melquiot. »\n« J’ai été très touchée par l’interprétation généreuse et sincère des deux comédien·nes. »\n« Une histoire touchante et percutante très ancrée dans notre réalité »\n« Un spectacle immersif » [et] « nécessaire »\nVivantMag \n« Sanglés dans une prose crépitante\, Aïda Hamri et Simon Chaillou virevoltent des fauteuils à la scène »\nMichel Flandrin
URL:https://ciechantierpublic.fr/event/representation-tout-public-les-separables-theatre-de-castres-81/
LOCATION:Théâtre de Castres\, Place de la République\, Castres\, 81100
ATTACH;FMTTYPE=image/jpeg:https://ciechantierpublic.fr/wp-content/uploads/2025/05/2-LesSeparables©ChloeSignes-recadreeSITE-1.jpg
ORGANIZER;CN="Th%C3%A9%C3%A2tre%20de%20Castres":MAILTO:theatre@ville-castres.fr
END:VEVENT
BEGIN:VEVENT
DTSTART;TZID=Europe/Paris:20270429T100000
DTEND;TZID=Europe/Paris:20270429T110000
DTSTAMP:20260421T141525
CREATED:20260114T163412Z
LAST-MODIFIED:20260114T163412Z
UID:4848-1808992800-1808996400@ciechantierpublic.fr
SUMMARY:REPRESENTATION SCOLAIRE - Les Séparables - Théâtre de Castres (81)
DESCRIPTION:En quelques mots \nRomain et Sabah ont 9 ans. Ils sont voisins et tous les deux solitaires. Lui galope sur son cheval de bois\, elle\, chasse le bison en guerrière sioux. \nDe leur rencontre\, surgit de l’incroyable et du merveilleux. \nMais leurs parents s’opposent à leur amour naissant avec brutalité. \nLes mots intuitifs de Fabrice Melquiot\, à hauteur d’enfants\, offrent un écho actuel à Roméo et Juliette. Ce texte drôle et sensible nous confronte avec finesse aux questions du racisme et de l’amour de l’autre. \nQuel que soit l’âge\, la mise en scène nous emporte au cœur des sensations des personnages et de leur imaginaire. \n« Les comédien·nes\, Aïda Hamri et Simon Chaillou\, portent avec une très belle justesse le texte de Fabrice Melquiot. »\n« J’ai été très touchée par l’interprétation généreuse et sincère des deux comédien·nes. »\n« Une histoire touchante et percutante très ancrée dans notre réalité »\n« Un spectacle immersif » [et] « nécessaire »\nVivantMag \n« Sanglés dans une prose crépitante\, Aïda Hamri et Simon Chaillou virevoltent des fauteuils à la scène »\nMichel Flandrin
URL:https://ciechantierpublic.fr/event/representation-scolaire-les-separables-theatre-de-castres-81/
LOCATION:Théâtre de Castres\, Place de la République\, Castres\, 81100
ATTACH;FMTTYPE=image/jpeg:https://ciechantierpublic.fr/wp-content/uploads/2025/05/2-LesSeparables©ChloeSignes-recadreeSITE.jpg
ORGANIZER;CN="Th%C3%A9%C3%A2tre%20de%20Castres":MAILTO:theatre@ville-castres.fr
END:VEVENT
END:VCALENDAR