BEGIN:VCALENDAR
VERSION:2.0
PRODID:-//ciechantierpublic - ECPv5.3.1.1//NONSGML v1.0//EN
CALSCALE:GREGORIAN
METHOD:PUBLISH
X-WR-CALNAME:ciechantierpublic
X-ORIGINAL-URL:https://ciechantierpublic.fr
X-WR-CALDESC:évènements pour ciechantierpublic
BEGIN:VTIMEZONE
TZID:Europe/Paris
BEGIN:DAYLIGHT
TZOFFSETFROM:+0100
TZOFFSETTO:+0200
TZNAME:CEST
DTSTART:20260329T010000
END:DAYLIGHT
BEGIN:STANDARD
TZOFFSETFROM:+0200
TZOFFSETTO:+0100
TZNAME:CET
DTSTART:20261025T010000
END:STANDARD
END:VTIMEZONE
BEGIN:VEVENT
DTSTART;TZID=Europe/Paris:20260427T140000
DTEND;TZID=Europe/Paris:20260430T160000
DTSTAMP:20260423T152617
CREATED:20260423T054308Z
LAST-MODIFIED:20260423T054308Z
UID:5033-1777298400-1777564800@ciechantierpublic.fr
SUMMARY:Stage théâtre enfants - MPT F. Chopin - 27 au 30 avril
DESCRIPTION:
URL:https://ciechantierpublic.fr/event/stage-theatre-enfants-mpt-f-chopin-27-au-30-avril/
LOCATION:Maison pour tous\, 41 Rue des Marmousets\, Saint-Christol-lès-Alès\, 30380
END:VEVENT
END:VCALENDAR